BEGIN:VCALENDAR
VERSION:2.0
PRODID:V Festival do Borrego 2025
X-WR-CALNAME:V Festival do Borrego 2025
X-WR-TIMEZONE:Europe/Lisbon
X-PUBLISHED-TTL:P1W
BEGIN:VTIMEZONE
TZID:Europe/Lisbon
X-LIC-LOCATION:Europe/Lisbon
END:VTIMEZONE
BEGIN:VEVENT
UID:69ea0af34bb3a
DTSTART;VALUE=DATE:20250209
SEQUENCE:0
TRANSP:OPAQUE
DTEND;VALUE=DATE:20250210
SUMMARY:V Festival do Borrego 2025
CLASS:PUBLIC
DESCRIPTION:O Festival do Borrego da Freguesia de Chancelaria visa\, por um
  lado\, divulgar um dos pratos mais tradicionais e apreciados da região e
 \, por outro\, dinamizar a população e fomentar a partilha de experiênc
 ias entre as diversas localidades da Freguesia. À parte dos objetivos ger
 ais da festa é de enaltecer o seu objetivo maior\, que passa pela canaliz
 ação de apoios para as associações participantes\, pois todo o lucro o
 btido é dividido equitativamente pelas mesmas.Organizado e patrocinado pe
 la Junta de Freguesia de Chancelaria\, o festival deste ano conta com a co
 laboração de 8 associações locais: a União Recreativa de Chancelaria\
 , a Sociedade Filarmónica União Matense\, a Associação Desportiva e Re
 creativa do Pafarrão\, o Centro Cultural e Recreativo da Rexaldia\, o Cen
 tro Cultural e Recreativo da Pena e Casal da Pena\, o Centro Cultural e Re
 creativo das Rendufas\, o Agrupamento 1140 do Corpo Nacional de Escutas e 
 a ARRIFAIRE. Estas associações para além de colaborarem com a força de
  trabalho foram quem confecionou o borrego\, a seu gosto e critérios.
X-MICROSOFT-CDO-ALLDAYEVENT:TRUE
DTSTAMP:20260423T120507Z
END:VEVENT
END:VCALENDAR