BEGIN:VCALENDAR
VERSION:2.0
PRODID:Inauguração do Jardim \"Cantinho dos Avós\" no Casal da Pena
X-WR-CALNAME:Inauguração do Jardim \"Cantinho dos Avós\" no Casal da Pen
 a
X-WR-TIMEZONE:Europe/Lisbon
X-PUBLISHED-TTL:P1W
BEGIN:VTIMEZONE
TZID:Europe/Lisbon
X-LIC-LOCATION:Europe/Lisbon
END:VTIMEZONE
BEGIN:VEVENT
UID:69ea0ddc9c0ca
DTSTART;VALUE=DATE:20250629
SEQUENCE:0
TRANSP:OPAQUE
DTEND;VALUE=DATE:20250630
SUMMARY:Inauguração do Jardim \"Cantinho dos Avós\" no Casal da Pena
CLASS:PUBLIC
DESCRIPTION:Convite à População | Inauguração do Jardim \"Cantinho dos
  Avós\" no Casal da Pena
X-MICROSOFT-CDO-ALLDAYEVENT:TRUE
DTSTAMP:20260423T121732Z
END:VEVENT
END:VCALENDAR